2.438400000000
0.000000000000
0.000000000000
-2.438400000000
272109.841733736394
4348389.280071056448
