2.438400000000
0.000000000000
0.000000000000
-2.438400000000
305574.051479811780
4389137.913047064096
