2.438400
0.000000
0.000000
-2.438400
754871.099664
4099651.542244
