2.43840000
0.00000000
0.00000000
-2.43840000
376466.69072854
4082459.63247885
