2.43840000
0.00000000
0.00000000
-2.43840000
320947.95474789
4097317.02755214
