2.43840000
0.00000000
0.00000000
-2.43840000
322706.70285307
4180535.27782949
