2.438400
0.000000
0.000000
-2.438400
299618.706626
4139384.994228
