2.438400
0.000000
0.000000
-2.438400
676803.770272
4111451.212504
