2.438400
0.000000
0.000000
-2.438400
630991.015468
4193796.740154
