2.438400
0.000000
0.000000
-2.438400
510163.723457
4137039.681246
