2.438400
0.000000
0.000000
-2.438400
576358.880005
4151356.021397
