2.43840000
0.00000000
0.00000000
-2.43840000
399444.74069524
4137636.58179102
