2.438400
0.000000
0.000000
-2.438400
345299.580145
4221709.215868
