2.438400
0.000000
0.000000
-2.438400
236065.208279
4238364.948696
