2.438400
0.000000
0.000000
-2.438400
717093.804345
4265135.625967
