2.438400
0.000000
0.000000
-2.438400
630441.470846
4221523.355589
