2.43840000
0.00000000
0.00000000
-2.43840000
209053.98407599
3309319.75388326
