2.438400
0.000000
0.000000
-2.438400
718143.797318
3238640.148096
