2.438400
0.000000
0.000000
-2.438400
742078.845128
3253007.373979
