2.438400
0.000000
0.000000
-2.438400
644776.462554
3278951.609082
