2.438400
0.000000
0.000000
-2.438400
656641.161389
3292986.158891
