2.438400
0.000000
0.000000
-2.438400
571806.316666
3333546.541775
