2.438400
0.000000
0.000000
-2.438400
487346.129367
3333275.487355
