2.438400
0.000000
0.000000
-2.438400
570352.419017
3527490.615693
