2.438400
0.000000
0.000000
-2.438400
463666.863997
3471857.206498
