2.438400
0.000000
0.000000
-2.438400
487594.225204
3485663.410791
