2.438400
0.000000
0.000000
-2.438400
440008.767812
3485770.497614
