2.438400
0.000000
0.000000
-2.438400
640647.499499
3569919.381332
