2.438400
0.000000
0.000000
-2.438400
546571.325692
3555044.153557
