2.438400
0.000000
0.000000
-2.438400
580888.176738
3666151.106885
