2.438400
0.000000
0.000000
-2.438400
487657.124333
3665728.084437
