2.43840541384628610
0.00000000000000000
0.00000000000000000
-2.43838650309329190
434074.18457763182000000
4317647.19219374940000000
