2.43840000
0.00000000
0.00000000
-2.43840000
402313.75671916
4373432.57805443
