2.43840000
0.00000000
0.00000000
-2.43840000
380776.89159062
4373733.02219836
