2.438400
0.000000
0.000000
-2.438400
438960.111638
4872703.678625
