2.438400
0.000000
0.000000
-2.438400
368477.514935
4873714.272988
