2.438400
0.000000
0.000000
-2.438400
598602.827242
4928890.813158
