2.438400
0.000000
0.000000
-2.438400
608304.758360
4942951.158017
