2.438400
0.000000
0.000000
-2.438400
479348.154461
4969646.024795
