2.438400
0.000000
0.000000
-2.438400
380720.455405
4984612.875350
