2.438400
0.000000
0.000000
-2.438400
646587.824799
4999442.719322
