2.438400
0.000000
0.000000
-2.438400
617101.608801
4998776.685533
