2.438400
0.000000
0.000000
-2.438400
499144.311546
5066921.487398
