2.438400
0.000000
0.000000
-2.438400
440012.023285
4997758.493373
