2.438400
0.000000
0.000000
-2.438400
469706.894599
5025321.794315
