2.438400
0.000000
0.000000
-2.438400
576137.413810
5136885.797640
