2.438400
0.000000
0.000000
-2.438400
489556.833560
5108492.262278
