2.438400
0.000000
0.000000
-2.438400
480092.068491
5177965.326241
