2.438400
0.000000
0.000000
-2.438400
460948.664565
5178059.211161
