2.438400
0.000000
0.000000
-2.438400
412292.559539
5122998.408470
